BEGIN:VCALENDAR
VERSION:2.0
PRODID:-//SBO de Driemaster - ECPv6.15.20//NONSGML v1.0//EN
CALSCALE:GREGORIAN
METHOD:PUBLISH
X-WR-CALNAME:SBO de Driemaster
X-ORIGINAL-URL:https://sbodriemaster.nl
X-WR-CALDESC:Evenementen voor SBO de Driemaster
REFRESH-INTERVAL;VALUE=DURATION:PT1H
X-Robots-Tag:noindex
X-PUBLISHED-TTL:PT1H
BEGIN:VTIMEZONE
TZID:Europe/Amsterdam
BEGIN:DAYLIGHT
TZOFFSETFROM:+0100
TZOFFSETTO:+0200
TZNAME:CEST
DTSTART:20230326T010000
END:DAYLIGHT
BEGIN:STANDARD
TZOFFSETFROM:+0200
TZOFFSETTO:+0100
TZNAME:CET
DTSTART:20231029T010000
END:STANDARD
BEGIN:DAYLIGHT
TZOFFSETFROM:+0100
TZOFFSETTO:+0200
TZNAME:CEST
DTSTART:20240331T010000
END:DAYLIGHT
BEGIN:STANDARD
TZOFFSETFROM:+0200
TZOFFSETTO:+0100
TZNAME:CET
DTSTART:20241027T010000
END:STANDARD
BEGIN:DAYLIGHT
TZOFFSETFROM:+0100
TZOFFSETTO:+0200
TZNAME:CEST
DTSTART:20250330T010000
END:DAYLIGHT
BEGIN:STANDARD
TZOFFSETFROM:+0200
TZOFFSETTO:+0100
TZNAME:CET
DTSTART:20251026T010000
END:STANDARD
END:VTIMEZONE
BEGIN:VEVENT
DTSTART;TZID=Europe/Amsterdam:20240401T083000
DTEND;TZID=Europe/Amsterdam:20240401T140000
DTSTAMP:20260419T160905
CREATED:20231130T083613Z
LAST-MODIFIED:20231130T083613Z
UID:1621-1711960200-1711980000@sbodriemaster.nl
SUMMARY:2e Paasdag
DESCRIPTION:Alle leerlingen vrij
URL:https://sbodriemaster.nl/evenement/2e-paasdag-2/
END:VEVENT
BEGIN:VEVENT
DTSTART;TZID=Europe/Amsterdam:20240403T083000
DTEND;TZID=Europe/Amsterdam:20240403T140000
DTSTAMP:20260419T160905
CREATED:20231130T083738Z
LAST-MODIFIED:20231130T083738Z
UID:1623-1712133000-1712152800@sbodriemaster.nl
SUMMARY:Basketbal Galjoen
DESCRIPTION:
URL:https://sbodriemaster.nl/evenement/basketbal-galjoen-2/
END:VEVENT
BEGIN:VEVENT
DTSTART;TZID=Europe/Amsterdam:20240422T083000
DTEND;TZID=Europe/Amsterdam:20240422T140000
DTSTAMP:20260419T160905
CREATED:20231130T083954Z
LAST-MODIFIED:20231130T083954Z
UID:1626-1713774600-1713794400@sbodriemaster.nl
SUMMARY:In deze week zwemmen Kogge + Boeier
DESCRIPTION:
URL:https://sbodriemaster.nl/evenement/in-deze-week-zwemmen-kogge-boeier/
END:VEVENT
BEGIN:VEVENT
DTSTART;TZID=Europe/Amsterdam:20240424T133000
DTEND;TZID=Europe/Amsterdam:20240424T140000
DTSTAMP:20260419T160905
CREATED:20231130T084055Z
LAST-MODIFIED:20231130T084055Z
UID:1628-1713965400-1713967200@sbodriemaster.nl
SUMMARY:Inloopmiddag ouders/verzorgers
DESCRIPTION:
URL:https://sbodriemaster.nl/evenement/inloopmiddag-ouders-verzorgers-3/
END:VEVENT
BEGIN:VEVENT
DTSTART;TZID=Europe/Amsterdam:20240425T083000
DTEND;TZID=Europe/Amsterdam:20240425T140000
DTSTAMP:20260419T160905
CREATED:20231130T084145Z
LAST-MODIFIED:20231130T084145Z
UID:1630-1714033800-1714053600@sbodriemaster.nl
SUMMARY:Koningsspelen
DESCRIPTION:
URL:https://sbodriemaster.nl/evenement/koningsspelen-3/
END:VEVENT
BEGIN:VEVENT
DTSTART;TZID=Europe/Amsterdam:20240429T083000
DTEND;TZID=Europe/Amsterdam:20240510T140000
DTSTAMP:20260419T160905
CREATED:20231130T084305Z
LAST-MODIFIED:20231130T084305Z
UID:1632-1714379400-1715349600@sbodriemaster.nl
SUMMARY:Meivakantie
DESCRIPTION:
URL:https://sbodriemaster.nl/evenement/meivakantie-4/
END:VEVENT
END:VCALENDAR