BEGIN:VCALENDAR
VERSION:2.0
PRODID:-//SBO de Driemaster - ECPv6.15.20//NONSGML v1.0//EN
CALSCALE:GREGORIAN
METHOD:PUBLISH
X-WR-CALNAME:SBO de Driemaster
X-ORIGINAL-URL:https://sbodriemaster.nl
X-WR-CALDESC:Evenementen voor SBO de Driemaster
REFRESH-INTERVAL;VALUE=DURATION:PT1H
X-Robots-Tag:noindex
X-PUBLISHED-TTL:PT1H
BEGIN:VTIMEZONE
TZID:Europe/Amsterdam
BEGIN:DAYLIGHT
TZOFFSETFROM:+0100
TZOFFSETTO:+0200
TZNAME:CEST
DTSTART:20220327T010000
END:DAYLIGHT
BEGIN:STANDARD
TZOFFSETFROM:+0200
TZOFFSETTO:+0100
TZNAME:CET
DTSTART:20221030T010000
END:STANDARD
BEGIN:DAYLIGHT
TZOFFSETFROM:+0100
TZOFFSETTO:+0200
TZNAME:CEST
DTSTART:20230326T010000
END:DAYLIGHT
BEGIN:STANDARD
TZOFFSETFROM:+0200
TZOFFSETTO:+0100
TZNAME:CET
DTSTART:20231029T010000
END:STANDARD
BEGIN:DAYLIGHT
TZOFFSETFROM:+0100
TZOFFSETTO:+0200
TZNAME:CEST
DTSTART:20240331T010000
END:DAYLIGHT
BEGIN:STANDARD
TZOFFSETFROM:+0200
TZOFFSETTO:+0100
TZNAME:CET
DTSTART:20241027T010000
END:STANDARD
BEGIN:DAYLIGHT
TZOFFSETFROM:+0100
TZOFFSETTO:+0200
TZNAME:CEST
DTSTART:20250330T010000
END:DAYLIGHT
BEGIN:STANDARD
TZOFFSETFROM:+0200
TZOFFSETTO:+0100
TZNAME:CET
DTSTART:20251026T010000
END:STANDARD
END:VTIMEZONE
BEGIN:VEVENT
DTSTART;TZID=Europe/Amsterdam:20231222T120000
DTEND;TZID=Europe/Amsterdam:20240105T140000
DTSTAMP:20260419T214109
CREATED:20231130T080318Z
LAST-MODIFIED:20231130T080318Z
UID:1593-1703246400-1704463200@sbodriemaster.nl
SUMMARY:Kerstvakantie
DESCRIPTION:
URL:https://sbodriemaster.nl/evenement/kerstvakantie-4/
END:VEVENT
BEGIN:VEVENT
DTSTART;TZID=Europe/Amsterdam:20240115T083000
DTEND;TZID=Europe/Amsterdam:20240119T140000
DTSTAMP:20260419T214109
CREATED:20231130T080555Z
LAST-MODIFIED:20231130T080555Z
UID:1597-1705307400-1705672800@sbodriemaster.nl
SUMMARY:Toetsweek
DESCRIPTION:
URL:https://sbodriemaster.nl/evenement/toetsweek-7/
END:VEVENT
BEGIN:VEVENT
DTSTART;TZID=Europe/Amsterdam:20240122T083000
DTEND;TZID=Europe/Amsterdam:20240126T140000
DTSTAMP:20260419T214109
CREATED:20231130T080503Z
LAST-MODIFIED:20231130T080503Z
UID:1595-1705912200-1706277600@sbodriemaster.nl
SUMMARY:Toetsweek
DESCRIPTION:
URL:https://sbodriemaster.nl/evenement/toetsweek-6/
END:VEVENT
END:VCALENDAR