BEGIN:VCALENDAR
VERSION:2.0
PRODID:-//SBO de Driemaster - ECPv6.15.20//NONSGML v1.0//EN
CALSCALE:GREGORIAN
METHOD:PUBLISH
X-ORIGINAL-URL:https://sbodriemaster.nl
X-WR-CALDESC:Evenementen voor SBO de Driemaster
REFRESH-INTERVAL;VALUE=DURATION:PT1H
X-Robots-Tag:noindex
X-PUBLISHED-TTL:PT1H
BEGIN:VTIMEZONE
TZID:Europe/Amsterdam
BEGIN:DAYLIGHT
TZOFFSETFROM:+0100
TZOFFSETTO:+0200
TZNAME:CEST
DTSTART:20220327T010000
END:DAYLIGHT
BEGIN:STANDARD
TZOFFSETFROM:+0200
TZOFFSETTO:+0100
TZNAME:CET
DTSTART:20221030T010000
END:STANDARD
BEGIN:DAYLIGHT
TZOFFSETFROM:+0100
TZOFFSETTO:+0200
TZNAME:CEST
DTSTART:20230326T010000
END:DAYLIGHT
BEGIN:STANDARD
TZOFFSETFROM:+0200
TZOFFSETTO:+0100
TZNAME:CET
DTSTART:20231029T010000
END:STANDARD
BEGIN:DAYLIGHT
TZOFFSETFROM:+0100
TZOFFSETTO:+0200
TZNAME:CEST
DTSTART:20240331T010000
END:DAYLIGHT
BEGIN:STANDARD
TZOFFSETFROM:+0200
TZOFFSETTO:+0100
TZNAME:CET
DTSTART:20241027T010000
END:STANDARD
END:VTIMEZONE
BEGIN:VEVENT
DTSTART;TZID=Europe/Amsterdam:20231127T083000
DTEND;TZID=Europe/Amsterdam:20231127T140000
DTSTAMP:20260420T005117
CREATED:20231130T090217Z
LAST-MODIFIED:20231130T090217Z
UID:1658-1701073800-1701093600@sbodriemaster.nl
SUMMARY:Sinterklaasviering
DESCRIPTION:
URL:https://sbodriemaster.nl/evenement/sinterklaasviering-2/
END:VEVENT
BEGIN:VEVENT
DTSTART;TZID=Europe/Amsterdam:20231128T083000
DTEND;TZID=Europe/Amsterdam:20231128T140000
DTSTAMP:20260420T005117
CREATED:20231130T090246Z
LAST-MODIFIED:20231130T090246Z
UID:1660-1701160200-1701180000@sbodriemaster.nl
SUMMARY:Studiedag
DESCRIPTION:Alle leerlingen vrij
URL:https://sbodriemaster.nl/evenement/studiedag-7/
END:VEVENT
END:VCALENDAR