BEGIN:VCALENDAR
VERSION:2.0
PRODID:-//SBO de Driemaster - ECPv6.15.20//NONSGML v1.0//EN
CALSCALE:GREGORIAN
METHOD:PUBLISH
X-ORIGINAL-URL:https://sbodriemaster.nl
X-WR-CALDESC:Evenementen voor SBO de Driemaster
REFRESH-INTERVAL;VALUE=DURATION:PT1H
X-Robots-Tag:noindex
X-PUBLISHED-TTL:PT1H
BEGIN:VTIMEZONE
TZID:Europe/Amsterdam
BEGIN:DAYLIGHT
TZOFFSETFROM:+0100
TZOFFSETTO:+0200
TZNAME:CEST
DTSTART:20220327T010000
END:DAYLIGHT
BEGIN:STANDARD
TZOFFSETFROM:+0200
TZOFFSETTO:+0100
TZNAME:CET
DTSTART:20221030T010000
END:STANDARD
BEGIN:DAYLIGHT
TZOFFSETFROM:+0100
TZOFFSETTO:+0200
TZNAME:CEST
DTSTART:20230326T010000
END:DAYLIGHT
BEGIN:STANDARD
TZOFFSETFROM:+0200
TZOFFSETTO:+0100
TZNAME:CET
DTSTART:20231029T010000
END:STANDARD
BEGIN:DAYLIGHT
TZOFFSETFROM:+0100
TZOFFSETTO:+0200
TZNAME:CEST
DTSTART:20240331T010000
END:DAYLIGHT
BEGIN:STANDARD
TZOFFSETFROM:+0200
TZOFFSETTO:+0100
TZNAME:CET
DTSTART:20241027T010000
END:STANDARD
END:VTIMEZONE
BEGIN:VEVENT
DTSTART;TZID=Europe/Amsterdam:20230703T080000
DTEND;TZID=Europe/Amsterdam:20230703T170000
DTSTAMP:20260420T075831
CREATED:20221121T110638Z
LAST-MODIFIED:20221121T110638Z
UID:1513-1688371200-1688403600@sbodriemaster.nl
SUMMARY:Schoolreis Optimist t/m Kogge
DESCRIPTION:
URL:https://sbodriemaster.nl/evenement/schoolreis-optimist-t-m-kogge/
END:VEVENT
BEGIN:VEVENT
DTSTART;TZID=Europe/Amsterdam:20230713T080000
DTEND;TZID=Europe/Amsterdam:20230713T170000
DTSTAMP:20260420T075831
CREATED:20221121T110722Z
LAST-MODIFIED:20230712T070752Z
UID:1515-1689235200-1689267600@sbodriemaster.nl
SUMMARY:Kennismaking nieuwe groep/wenuurtje
DESCRIPTION:
URL:https://sbodriemaster.nl/evenement/kennismaking-nieuwe-groep-wenuurtje/
END:VEVENT
BEGIN:VEVENT
DTSTART;TZID=Europe/Amsterdam:20230718T080000
DTEND;TZID=Europe/Amsterdam:20230718T170000
DTSTAMP:20260420T075831
CREATED:20221121T110801Z
LAST-MODIFIED:20221121T110801Z
UID:1517-1689667200-1689699600@sbodriemaster.nl
SUMMARY:Galjoen- en Boeierdag. Afscheid schoolverlaters
DESCRIPTION:
URL:https://sbodriemaster.nl/evenement/galjoen-en-boeierdag-afscheid-schoolverlaters/
END:VEVENT
BEGIN:VEVENT
DTSTART;TZID=Europe/Amsterdam:20230719T080000
DTEND;TZID=Europe/Amsterdam:20230719T170000
DTSTAMP:20260420T075831
CREATED:20221121T110835Z
LAST-MODIFIED:20221121T110835Z
UID:1519-1689753600-1689786000@sbodriemaster.nl
SUMMARY:Boeier zomervakantie
DESCRIPTION:
URL:https://sbodriemaster.nl/evenement/boeier-zomervakantie/
END:VEVENT
BEGIN:VEVENT
DTSTART;TZID=Europe/Amsterdam:20230720T080000
DTEND;TZID=Europe/Amsterdam:20230721T170000
DTSTAMP:20260420T075831
CREATED:20221121T111243Z
LAST-MODIFIED:20221121T111243Z
UID:1521-1689840000-1689958800@sbodriemaster.nl
SUMMARY:Alle leerlingen vrij
DESCRIPTION:
URL:https://sbodriemaster.nl/evenement/alle-leerlingen-vrij/
END:VEVENT
BEGIN:VEVENT
DTSTART;TZID=Europe/Amsterdam:20230724T080000
DTEND;TZID=Europe/Amsterdam:20230901T170000
DTSTAMP:20260420T075831
CREATED:20221121T111345Z
LAST-MODIFIED:20221121T111345Z
UID:1523-1690185600-1693587600@sbodriemaster.nl
SUMMARY:Zomervakantie
DESCRIPTION:
URL:https://sbodriemaster.nl/evenement/zomervakantie-3/
END:VEVENT
END:VCALENDAR